BEGIN:VCALENDAR
VERSION:2.0
PRODID:-//BC Green Party - ECPv6.15.20//NONSGML v1.0//EN
CALSCALE:GREGORIAN
METHOD:PUBLISH
X-ORIGINAL-URL:https://bcgreens.ca
X-WR-CALDESC:Events for BC Green Party
REFRESH-INTERVAL;VALUE=DURATION:PT1H
X-Robots-Tag:noindex
X-PUBLISHED-TTL:PT1H
BEGIN:VTIMEZONE
TZID:America/Vancouver
BEGIN:DAYLIGHT
TZOFFSETFROM:-0800
TZOFFSETTO:-0700
TZNAME:PDT
DTSTART:20240310T100000
END:DAYLIGHT
BEGIN:STANDARD
TZOFFSETFROM:-0700
TZOFFSETTO:-0800
TZNAME:PST
DTSTART:20241103T090000
END:STANDARD
BEGIN:DAYLIGHT
TZOFFSETFROM:-0800
TZOFFSETTO:-0700
TZNAME:PDT
DTSTART:20250309T100000
END:DAYLIGHT
BEGIN:STANDARD
TZOFFSETFROM:-0700
TZOFFSETTO:-0800
TZNAME:PST
DTSTART:20251102T090000
END:STANDARD
BEGIN:DAYLIGHT
TZOFFSETFROM:-0800
TZOFFSETTO:-0700
TZNAME:PDT
DTSTART:20260308T100000
END:DAYLIGHT
BEGIN:STANDARD
TZOFFSETFROM:-0700
TZOFFSETTO:-0800
TZNAME:PST
DTSTART:20261101T090000
END:STANDARD
END:VTIMEZONE
BEGIN:VEVENT
DTSTART;VALUE=DATE:20250709
DTEND;VALUE=DATE:20250711
DTSTAMP:20260421T201212
CREATED:20250625T194121Z
LAST-MODIFIED:20250703T220544Z
UID:5051-1752019200-1752191999@bcgreens.ca
SUMMARY:July 9-10 | Kamloops | 2025 MLA Tour Stop
DESCRIPTION:Join MLA Jeremy Valeriote for a series of exciting events in Kamloops on July 9th and 10th! \nSHOW ME THE EVENTS
URL:https://bcgreens.ca/event/july-9-10-kamloops-2025-mla-tour-stop/
LOCATION:BC
CATEGORIES:Jeremy Valeriote,KAM - Kamloops,Tour 25
END:VEVENT
BEGIN:VEVENT
DTSTART;TZID=America/Vancouver:20250709T120000
DTEND;TZID=America/Vancouver:20250709T130000
DTSTAMP:20260421T201212
CREATED:20250611T235058Z
LAST-MODIFIED:20250703T220552Z
UID:4670-1752062400-1752066000@bcgreens.ca
SUMMARY:July 9 | Kamloops | Mix & Mingle Lunch with MLA
DESCRIPTION:Join the first Green MLA to ever be elected on the mainland for a fun lunch time of mixing and mingling. \nCome hear what he has been working on in the legislature\, what’s coming next\, and how you can get involved with your local Regional Riding Association. Bring your questions\, your curiosity—and a friend! \nRSVP Here
URL:https://bcgreens.ca/event/kam-july-9th-tour25/
LOCATION:Yew Street Food Hall\, 107 Yew Street\, Kamloops\, British Columbia\, Canada
CATEGORIES:Jeremy Valeriote,KAM - Kamloops,Tour 25
END:VEVENT
BEGIN:VEVENT
DTSTART;TZID=America/Vancouver:20250709T130000
DTEND;TZID=America/Vancouver:20250709T134500
DTSTAMP:20260421T201212
CREATED:20250622T215729Z
LAST-MODIFIED:20250625T194502Z
UID:4957-1752066000-1752068700@bcgreens.ca
SUMMARY:July 9 | Kamloops | Propolis Tour
DESCRIPTION:Join us for a tour of the new Propolis site.\nMore information here: https://www.propoliscooperative.com/\nWe will meet at the Yew Street Food Hall and walk across the street to the Propolis site.\nRSVP HERE!
URL:https://bcgreens.ca/event/july-9-kamloops-propolis-tour/
LOCATION:Yew Street Food Hall\, 107 Yew Street\, Kamloops\, British Columbia\, Canada
CATEGORIES:KAM - Kamloops
END:VEVENT
BEGIN:VEVENT
DTSTART;TZID=America/Vancouver:20250709T180000
DTEND;TZID=America/Vancouver:20250709T203000
DTSTAMP:20260421T201212
CREATED:20250622T214556Z
LAST-MODIFIED:20250625T194508Z
UID:4955-1752084000-1752093000@bcgreens.ca
SUMMARY:July 9 | Kamloops | Picnic and Music in the Park
DESCRIPTION:Enjoy some food\, socializing\, and live music at Riverside Park. \nDate and time: Meet at 6:00pm for the picnic\, music is from 7:00-8:30pm.\nThis is a casual get together with a picnic in the park\, followed by live music (Blake Havard) as part of the City of Kamloops Music in the Park program. \nPlease bring your own food and dishes (no disposables\, please). If you would like something to share\, feel free\, but not required.\nAlso bring a chair or blanket for the music.\nSpecific meet-up location will be provided closer to the date. \nMore information about Music in the Park: https://www.kamloops.ca/our-community/news-events/events-calendar/music-park \nRSVP HERE!
URL:https://bcgreens.ca/event/july-9-kamloops-picnic-and-music-in-the-park/
LOCATION:Riverside Park\, 100 Lorne St\, Kamloops\, BC\, V2C 1V9\, Canada
CATEGORIES:KAM - Kamloops
END:VEVENT
BEGIN:VEVENT
DTSTART;TZID=America/Vancouver:20250710T100000
DTEND;TZID=America/Vancouver:20250710T110000
DTSTAMP:20260421T201212
CREATED:20250622T211909Z
LAST-MODIFIED:20250703T220203Z
UID:4951-1752141600-1752145200@bcgreens.ca
SUMMARY:July 10 | Kamloops | Coffee Chat with MLA Jeremy Valeriote
DESCRIPTION:Come and join us for coffee at the Vic Downtown.\nMeet MLA Jeremy Valeriote while he is stopping in Kamloops as part of his summer tour of BC. \nRSVP HERE!
URL:https://bcgreens.ca/event/july-10-kamloops-coffee-chat-with-mla-jeremy-valeriote/
LOCATION:The Vic Downtown\, 377 Victoria St\, Kamloops\, BC\, Canada
CATEGORIES:Jeremy Valeriote,KAM - Kamloops,Tour 25
END:VEVENT
END:VCALENDAR