BEGIN:VCALENDAR
VERSION:2.0
PRODID:-//BC Green Party - ECPv6.15.20//NONSGML v1.0//EN
CALSCALE:GREGORIAN
METHOD:PUBLISH
X-WR-CALNAME:BC Green Party
X-ORIGINAL-URL:https://bcgreens.ca
X-WR-CALDESC:Events for BC Green Party
REFRESH-INTERVAL;VALUE=DURATION:PT1H
X-Robots-Tag:noindex
X-PUBLISHED-TTL:PT1H
BEGIN:VTIMEZONE
TZID:America/Vancouver
BEGIN:DAYLIGHT
TZOFFSETFROM:-0800
TZOFFSETTO:-0700
TZNAME:PDT
DTSTART:20240310T100000
END:DAYLIGHT
BEGIN:STANDARD
TZOFFSETFROM:-0700
TZOFFSETTO:-0800
TZNAME:PST
DTSTART:20241103T090000
END:STANDARD
BEGIN:DAYLIGHT
TZOFFSETFROM:-0800
TZOFFSETTO:-0700
TZNAME:PDT
DTSTART:20250309T100000
END:DAYLIGHT
BEGIN:STANDARD
TZOFFSETFROM:-0700
TZOFFSETTO:-0800
TZNAME:PST
DTSTART:20251102T090000
END:STANDARD
BEGIN:DAYLIGHT
TZOFFSETFROM:-0800
TZOFFSETTO:-0700
TZNAME:PDT
DTSTART:20260308T100000
END:DAYLIGHT
BEGIN:STANDARD
TZOFFSETFROM:-0700
TZOFFSETTO:-0800
TZNAME:PST
DTSTART:20261101T090000
END:STANDARD
END:VTIMEZONE
BEGIN:VEVENT
DTSTART;TZID=America/Vancouver:20251127T090000
DTEND;TZID=America/Vancouver:20251127T100000
DTSTAMP:20260421T140627
CREATED:20251112T195617Z
LAST-MODIFIED:20251127T002412Z
UID:6870-1764234000-1764237600@bcgreens.ca
SUMMARY:Thursday November 27 | Kamloops | Coffee Time with Emily | Leader’s Tour
DESCRIPTION:Join us for a casual coffee time with BC Greens Leader\, Emily Lowan.\nThis is an informal gathering with a chance to talk to Emily and other Green supporters! \nRSVP here!
URL:https://bcgreens.ca/event/thursday-november-27-kamloops-coffee-time-with-emily-leaders-tour/
LOCATION:The Art We Are Cafe\, 246 Victoria St\, Kamloops\, BC\, V2C 2A2\, Canada
CATEGORIES:2025 Fall Leader's Tour,KAM - Kamloops
END:VEVENT
BEGIN:VEVENT
DTSTART;TZID=America/Vancouver:20251127T183000
DTEND;TZID=America/Vancouver:20251127T210000
DTSTAMP:20260421T140627
CREATED:20251112T200245Z
LAST-MODIFIED:20251127T002559Z
UID:6873-1764268200-1764277200@bcgreens.ca
SUMMARY:Thursday November 27 | Kamloops | Pizza Party with Emily | Leader’s Tour
DESCRIPTION:Join us for a social evening with BC Greens Leader\, Emily Lowan.\nEmily is touring the province and visiting Kamloops on November 27th. This will be a casual event with some words from Emily and a chance to mingle with other Greens.\nWe will be providing the pizza; guests are responsible for their own drinks. Vegan pizza will be available\, but if you have any dietary restrictions\, please let us know. \nDoors open at 6:30pm. \nPlease rsvp separately for each family member so we know how many people are coming (we need to reserve the seats). Looking forward to seeing everyone! \nRSVP here!
URL:https://bcgreens.ca/event/thursday-november-27-kamloops-pizza-party-with-emily-leaders-tour/
LOCATION:Pizza Pi\, 314 Victoria St\, Kamloops\, BC\, V2C 2A3\, Canada
CATEGORIES:2025 Fall Leader's Tour,KAM - Kamloops
END:VEVENT
END:VCALENDAR