BEGIN:VCALENDAR
VERSION:2.0
PRODID:-//BC Green Party - ECPv6.15.20//NONSGML v1.0//EN
CALSCALE:GREGORIAN
METHOD:PUBLISH
X-WR-CALNAME:BC Green Party
X-ORIGINAL-URL:https://bcgreens.ca
X-WR-CALDESC:Events for BC Green Party
REFRESH-INTERVAL;VALUE=DURATION:PT1H
X-Robots-Tag:noindex
X-PUBLISHED-TTL:PT1H
BEGIN:VTIMEZONE
TZID:America/Vancouver
BEGIN:DAYLIGHT
TZOFFSETFROM:-0800
TZOFFSETTO:-0700
TZNAME:PDT
DTSTART:20240310T100000
END:DAYLIGHT
BEGIN:STANDARD
TZOFFSETFROM:-0700
TZOFFSETTO:-0800
TZNAME:PST
DTSTART:20241103T090000
END:STANDARD
BEGIN:DAYLIGHT
TZOFFSETFROM:-0800
TZOFFSETTO:-0700
TZNAME:PDT
DTSTART:20250309T100000
END:DAYLIGHT
BEGIN:STANDARD
TZOFFSETFROM:-0700
TZOFFSETTO:-0800
TZNAME:PST
DTSTART:20251102T090000
END:STANDARD
BEGIN:DAYLIGHT
TZOFFSETFROM:-0800
TZOFFSETTO:-0700
TZNAME:PDT
DTSTART:20260308T100000
END:DAYLIGHT
BEGIN:STANDARD
TZOFFSETFROM:-0700
TZOFFSETTO:-0800
TZNAME:PST
DTSTART:20261101T090000
END:STANDARD
END:VTIMEZONE
BEGIN:VEVENT
DTSTART;VALUE=DATE:20250709
DTEND;VALUE=DATE:20250711
DTSTAMP:20260421T215638
CREATED:20250625T194121Z
LAST-MODIFIED:20250703T220544Z
UID:5051-1752019200-1752191999@bcgreens.ca
SUMMARY:July 9-10 | Kamloops | 2025 MLA Tour Stop
DESCRIPTION:Join MLA Jeremy Valeriote for a series of exciting events in Kamloops on July 9th and 10th! \nSHOW ME THE EVENTS
URL:https://bcgreens.ca/event/july-9-10-kamloops-2025-mla-tour-stop/
LOCATION:BC
CATEGORIES:Jeremy Valeriote,KAM - Kamloops,Tour 25
END:VEVENT
BEGIN:VEVENT
DTSTART;TZID=America/Vancouver:20250710T100000
DTEND;TZID=America/Vancouver:20250710T110000
DTSTAMP:20260421T215638
CREATED:20250622T211909Z
LAST-MODIFIED:20250703T220203Z
UID:4951-1752141600-1752145200@bcgreens.ca
SUMMARY:July 10 | Kamloops | Coffee Chat with MLA Jeremy Valeriote
DESCRIPTION:Come and join us for coffee at the Vic Downtown.\nMeet MLA Jeremy Valeriote while he is stopping in Kamloops as part of his summer tour of BC. \nRSVP HERE!
URL:https://bcgreens.ca/event/july-10-kamloops-coffee-chat-with-mla-jeremy-valeriote/
LOCATION:The Vic Downtown\, 377 Victoria St\, Kamloops\, BC\, Canada
CATEGORIES:Jeremy Valeriote,KAM - Kamloops,Tour 25
END:VEVENT
END:VCALENDAR