BEGIN:VCALENDAR
VERSION:2.0
PRODID:-//BC Green Party - ECPv6.15.20//NONSGML v1.0//EN
CALSCALE:GREGORIAN
METHOD:PUBLISH
X-WR-CALNAME:BC Green Party
X-ORIGINAL-URL:https://bcgreens.ca
X-WR-CALDESC:Events for BC Green Party
REFRESH-INTERVAL;VALUE=DURATION:PT1H
X-Robots-Tag:noindex
X-PUBLISHED-TTL:PT1H
BEGIN:VTIMEZONE
TZID:America/Vancouver
BEGIN:DAYLIGHT
TZOFFSETFROM:-0800
TZOFFSETTO:-0700
TZNAME:PDT
DTSTART:20250309T100000
END:DAYLIGHT
BEGIN:STANDARD
TZOFFSETFROM:-0700
TZOFFSETTO:-0800
TZNAME:PST
DTSTART:20251102T090000
END:STANDARD
BEGIN:DAYLIGHT
TZOFFSETFROM:-0800
TZOFFSETTO:-0700
TZNAME:PDT
DTSTART:20260308T100000
END:DAYLIGHT
BEGIN:STANDARD
TZOFFSETFROM:-0700
TZOFFSETTO:-0800
TZNAME:PST
DTSTART:20261101T090000
END:STANDARD
BEGIN:DAYLIGHT
TZOFFSETFROM:-0800
TZOFFSETTO:-0700
TZNAME:PDT
DTSTART:20270314T100000
END:DAYLIGHT
BEGIN:STANDARD
TZOFFSETFROM:-0700
TZOFFSETTO:-0800
TZNAME:PST
DTSTART:20271107T090000
END:STANDARD
END:VTIMEZONE
BEGIN:VEVENT
DTSTART;TZID=America/Vancouver:20260124T100000
DTEND;TZID=America/Vancouver:20260124T120000
DTSTAMP:20260421T025241
CREATED:20260118T223121Z
LAST-MODIFIED:20260118T223121Z
UID:15229-1769248800-1769256000@bcgreens.ca
SUMMARY:Saturday January 24 | Sidney | Community Meet and Greet with MLA Rob Botterell
DESCRIPTION:Healthcare. Cost of Living. Climate Action. Strengthening Democracy…. What are your priority issues for 2026? Rob wants to know!\nJoin Rob for a non-partisan meet and greet in Sidney to share what you see as the priority issues for 2026. \nWhether you’re passionate about one issue or many\, this is a chance to be heard and help shape the focus for the year ahead. \nCome share your priorities\, ask questions\, and be part of the conversation. \nThis is a drop-in event; registration is not required but welcome for planning purposes. We hope to see you there! \nRSVP Here!
URL:https://bcgreens.ca/event/saturday-january-24-sidney-community-meet-and-greet-with-mla-rob-botterell/
LOCATION:Smør Scandinavian Bakery\, 2367 Bevan Avenue\, Sidney\, BC\, Canada
CATEGORIES:Rob Botterell,SAN - Saanich North and the Islands
END:VEVENT
END:VCALENDAR