BEGIN:VCALENDAR
VERSION:2.0
PRODID:-//BC Green Party - ECPv6.15.20//NONSGML v1.0//EN
CALSCALE:GREGORIAN
METHOD:PUBLISH
X-ORIGINAL-URL:https://bcgreens.ca
X-WR-CALDESC:Events for BC Green Party
REFRESH-INTERVAL;VALUE=DURATION:PT1H
X-Robots-Tag:noindex
X-PUBLISHED-TTL:PT1H
BEGIN:VTIMEZONE
TZID:America/Vancouver
BEGIN:DAYLIGHT
TZOFFSETFROM:-0800
TZOFFSETTO:-0700
TZNAME:PDT
DTSTART:20240310T100000
END:DAYLIGHT
BEGIN:STANDARD
TZOFFSETFROM:-0700
TZOFFSETTO:-0800
TZNAME:PST
DTSTART:20241103T090000
END:STANDARD
BEGIN:DAYLIGHT
TZOFFSETFROM:-0800
TZOFFSETTO:-0700
TZNAME:PDT
DTSTART:20250309T100000
END:DAYLIGHT
BEGIN:STANDARD
TZOFFSETFROM:-0700
TZOFFSETTO:-0800
TZNAME:PST
DTSTART:20251102T090000
END:STANDARD
BEGIN:DAYLIGHT
TZOFFSETFROM:-0800
TZOFFSETTO:-0700
TZNAME:PDT
DTSTART:20260308T100000
END:DAYLIGHT
BEGIN:STANDARD
TZOFFSETFROM:-0700
TZOFFSETTO:-0800
TZNAME:PST
DTSTART:20261101T090000
END:STANDARD
END:VTIMEZONE
BEGIN:VEVENT
DTSTART;TZID=America/Vancouver:20251215T160000
DTEND;TZID=America/Vancouver:20251215T170000
DTSTAMP:20260422T150513
CREATED:20251209T051151Z
LAST-MODIFIED:20251209T051151Z
UID:7288-1765814400-1765818000@bcgreens.ca
SUMMARY:Monday December 15 | Whistler | Young Greens - Après with Emily Lowan | Leader’s Tour
DESCRIPTION:Hey Young Skiers and Snowboarders!\nCome après with Emily Lowan and chat with her about the oligarchs nearest you! She wants to know what it feels like to have the place you work and play be owned by billionaires and people far far away. Hear what she wants to do to fight these oligarchs\, and fund our future. \nGrab a drink and let’s chat! Help bring more youth into the party by keeping this events to young Greens only. Greens of all ages are welcome at the following Meet & Greet event later this evening. \nRSVP Here!
URL:https://bcgreens.ca/event/monday-december-15-whistler-young-greens-apres-with-emily-lowan-leaders-tour/
LOCATION:Cinnamon Bear (CBB)\, 4050 Whistler Way\, Whistler\, BC\, V8E 1G9\, Canada
CATEGORIES:2025 Fall Leader's Tour,WVS - West Vancouver-Sea to Sky,Young BC Greens
END:VEVENT
BEGIN:VEVENT
DTSTART;TZID=America/Vancouver:20251215T170000
DTEND;TZID=America/Vancouver:20251215T180000
DTSTAMP:20260422T150513
CREATED:20251211T033554Z
LAST-MODIFIED:20251211T033554Z
UID:7302-1765818000-1765821600@bcgreens.ca
SUMMARY:Monday December 15 | West Vancouver-Sea to Sky | AGM + Volunteer Meeting
DESCRIPTION:Come join us for our West Vancouver-Sea to Sky AGM + Council Election Results!\nThis is the perfect opportunity to connect with the members in our riding and learn how you can get more involved! We will be recapping the year\, meeting your nominees for the 2025 Riding Association Executive\, and providing vote assistance to those who need it. \nApply here! \nAfter the AGM\, stay for a meet and greet with our new BC Greens leader Emily Lowan and WVS MLA Jeremy Valeriote from 6pm. We hope to see you there! \n⏳ Timeline: \n\nDecember 11th at 5pm: Application deadline (apply here)\nDecember 12th at 10am: Membership deadline (become a member here\, or email gifts@bcgreens.ca to check your membership)\nDecember 13th at 10am: Voting opens\nDecember 15th at 5pm: Voting help for those that need it at this meeting\nDecember 15th at 5:30pm: Voting closes\nDecember 15th at 5:45pm: Results announced\n\nInterested in learning more\, or have questions? Please email organize@bcgreens.ca!
URL:https://bcgreens.ca/event/monday-december-15-west-vancouver-sea-to-sky-agm-volunteer-meeting/
LOCATION:Maury Young Arts Centre\, 4335 Blackcomb Wy\, Whistler\, BC\, V8E 0X4\, Canada
CATEGORIES:WVS - West Vancouver-Sea to Sky
END:VEVENT
BEGIN:VEVENT
DTSTART;TZID=America/Vancouver:20251215T180000
DTEND;TZID=America/Vancouver:20251215T200000
DTSTAMP:20260422T150513
CREATED:20251128T064502Z
LAST-MODIFIED:20251128T064502Z
UID:7199-1765821600-1765828800@bcgreens.ca
SUMMARY:Monday December 15 | Whistler | Meet Emily Lowan with MLA Jeremy Valeriote | Leader's Tour
DESCRIPTION:BC Green Party leader Emily Lowan is coming to Whistler! \nShe will be at the Maury Young Arts Centre from 6:00 p.m. to 8 p.m. for a meet and greet style event. \nWhistler’s local BC Green MLA Jeremy Valeriote will be there to welcome her! \nRSVP Here!\n 
URL:https://bcgreens.ca/event/monday-december-15-whistler-meet-emily-lowan-with-mla-jeremy-valeriote-leaders-tour/
LOCATION:Maury Young Arts Centre\, 4335 Blackcomb Wy\, Whistler\, BC\, V8E 0X4\, Canada
CATEGORIES:2025 Fall Leader's Tour,WVS - West Vancouver-Sea to Sky
END:VEVENT
END:VCALENDAR