BEGIN:VCALENDAR
VERSION:2.0
PRODID:-//BC Green Party - ECPv6.15.20//NONSGML v1.0//EN
CALSCALE:GREGORIAN
METHOD:PUBLISH
X-ORIGINAL-URL:https://bcgreens.ca
X-WR-CALDESC:Events for BC Green Party
REFRESH-INTERVAL;VALUE=DURATION:PT1H
X-Robots-Tag:noindex
X-PUBLISHED-TTL:PT1H
BEGIN:VTIMEZONE
TZID:America/Vancouver
BEGIN:DAYLIGHT
TZOFFSETFROM:-0800
TZOFFSETTO:-0700
TZNAME:PDT
DTSTART:20240310T100000
END:DAYLIGHT
BEGIN:STANDARD
TZOFFSETFROM:-0700
TZOFFSETTO:-0800
TZNAME:PST
DTSTART:20241103T090000
END:STANDARD
BEGIN:DAYLIGHT
TZOFFSETFROM:-0800
TZOFFSETTO:-0700
TZNAME:PDT
DTSTART:20250309T100000
END:DAYLIGHT
BEGIN:STANDARD
TZOFFSETFROM:-0700
TZOFFSETTO:-0800
TZNAME:PST
DTSTART:20251102T090000
END:STANDARD
BEGIN:DAYLIGHT
TZOFFSETFROM:-0800
TZOFFSETTO:-0700
TZNAME:PDT
DTSTART:20260308T100000
END:DAYLIGHT
BEGIN:STANDARD
TZOFFSETFROM:-0700
TZOFFSETTO:-0800
TZNAME:PST
DTSTART:20261101T090000
END:STANDARD
END:VTIMEZONE
BEGIN:VEVENT
DTSTART;TZID=America/Vancouver:20251008T180000
DTEND;TZID=America/Vancouver:20251008T200000
DTSTAMP:20260422T193857
CREATED:20251002T231059Z
LAST-MODIFIED:20251002T231059Z
UID:6394-1759946400-1759953600@bcgreens.ca
SUMMARY:Wednesday October 8 | Whistler | Green Drinks
DESCRIPTION:Come to green drinks for beers\, live music and some sustainability chat!\nJoin your local Green Team and other environmental folks to meet new people\, mingle and share anything you might be working on in the community! \nRSVP Here!
URL:https://bcgreens.ca/event/wednesday-october-8-whistler-green-drinks/
LOCATION:RMU Whistler\, 113-4557 Blackcomb Way Le Chamois Hotel\, Plaza Level\, Upper Village\, Whistler\, BC\, V8E0Y2\, Canada
CATEGORIES:WVS - West Vancouver-Sea to Sky
END:VEVENT
END:VCALENDAR